BEGIN:VCALENDAR
VERSION:2.0
PRODID:-//Plone.org//NONSGML plone.app.event//EN
X-WR-TIMEZONE:Europe/Madrid
BEGIN:VEVENT
SUMMARY:Atenció a la ciutadania
DTSTART;TZID=Europe/Madrid;VALUE=DATE-TIME:20191021T163000
DTEND;TZID=Europe/Madrid;VALUE=DATE-TIME:20191021T173000
DTSTAMP;VALUE=DATE-TIME:20260425T125136Z
UID:c467f7ed141ac1d6857dca4fbe83d015
CREATED;VALUE=DATE-TIME:20191021T000000Z
LOCATION:Ajuntament - Plaça de l'Ajuntament, 1. 08328 Alella
URL:https://www.mynerva.net/ajalella/document.php?id=11925
END:VEVENT
END:VCALENDAR