BEGIN:VCALENDAR
VERSION:2.0
PRODID:-//Plone.org//NONSGML plone.app.event//EN
X-WR-TIMEZONE:Europe/Madrid
BEGIN:VEVENT
SUMMARY:IV Trobada d'Escriptores del Maresme
DTSTART;TZID=Europe/Madrid;VALUE=DATE-TIME:20191029T173000
DTEND;TZID=Europe/Madrid;VALUE=DATE-TIME:20191029T183000
DTSTAMP;VALUE=DATE-TIME:20260425T211927Z
UID:23db5cf1d99ad6cfea93cf2e31b769f9
CREATED;VALUE=DATE-TIME:20191029T000000Z
CATEGORIES:Literatura,Agenda institucional
LOCATION:Consell Comarcal del Maresme
ORGANIZER:Consell Comarcal del Maresme
URL:https://www.mynerva.net/ajalella/document.php?id=11953
END:VEVENT
END:VCALENDAR