BEGIN:VCALENDAR
VERSION:2.0
PRODID:-//Plone.org//NONSGML plone.app.event//EN
X-WR-TIMEZONE:Europe/Madrid
BEGIN:VEVENT
SUMMARY:Bibliolab: Elemental estimat Watson
DTSTART;TZID=Europe/Madrid;VALUE=DATE-TIME:20191115T170000
DTEND;TZID=Europe/Madrid;VALUE=DATE-TIME:20191115T180000
DTSTAMP;VALUE=DATE-TIME:20260425T135559Z
UID:53e91c5472df63454b8196e487e39842
CREATED;VALUE=DATE-TIME:20191115T000000Z
CATEGORIES:Literatura,Familiars
LOCATION:Biblioteca Municipal Ferrer i Guàrdia - Hort de la Rectoria. 08328 Alella
COMMENT:Preu: Gratuït
Durada: 17.00 h-18.30 h
URL:https://www.mynerva.net/ajalella/document.php?id=11986
END:VEVENT
END:VCALENDAR