BEGIN:VCALENDAR
VERSION:2.0
PRODID:-//Plone.org//NONSGML plone.app.event//EN
X-WR-TIMEZONE:Europe/Madrid
BEGIN:VEVENT
SUMMARY:&#127815;Diumenges de most
DTSTART;TZID=Europe/Madrid;VALUE=DATE-TIME:20200329T120000
DTEND;TZID=Europe/Madrid;VALUE=DATE-TIME:20200329T130000
DTSTAMP;VALUE=DATE-TIME:20260424T214133Z
UID:345523ca75b9c26c091a578bc688bc18
CREATED;VALUE=DATE-TIME:20200329T000000Z
CATEGORIES:Familiars
LOCATION:Oficina de Turisme - Riera Fosca 2. 08328 Alella
ORGANIZER:Ajuntament d'Alella
COMMENT:Preu: 4 euros
Durada: 90 minuts aproximadament
DESCRIPTION:AJORNADA
URL:https://www.mynerva.net/ajalella/document.php?id=12668
END:VEVENT
END:VCALENDAR