BEGIN:VCALENDAR
VERSION:2.0
PRODID:-//Plone.org//NONSGML plone.app.event//EN
X-WR-TIMEZONE:Europe/Madrid
BEGIN:VEVENT
SUMMARY:&#127863;Diumenges de vins
DTSTART;TZID=Europe/Madrid;VALUE=DATE-TIME:20200329T120000
DTEND;TZID=Europe/Madrid;VALUE=DATE-TIME:20200329T130000
DTSTAMP;VALUE=DATE-TIME:20260424T214537Z
UID:418d8d733ea606ba9f20a544113b84b5
CREATED;VALUE=DATE-TIME:20200329T000000Z
CATEGORIES:Vi i gastronomia,Tast de vins i most
LOCATION:Oficina de Turisme - Riera Fosca 2. 08328 Alella
ORGANIZER:Ajuntament d'Alella
COMMENT:Preu: 8 euros
Durada: 90 minuts aproximadament
DESCRIPTION:AJORNADA
URL:https://www.mynerva.net/ajalella/document.php?id=12669
END:VEVENT
END:VCALENDAR