BEGIN:VCALENDAR
VERSION:2.0
PRODID:-//Plone.org//NONSGML plone.app.event//EN
X-WR-TIMEZONE:Europe/Madrid
BEGIN:VEVENT
SUMMARY:Xerrada sobre l'exposició &OpenCurlyDoubleQuote;Paisatges, persistències i afectes&CloseCurlyDoubleQuote;, d'Eva Marín
DTSTART;TZID=Europe/Madrid;VALUE=DATE-TIME:20200917T193000
DTEND;TZID=Europe/Madrid;VALUE=DATE-TIME:20200917T203000
DTSTAMP;VALUE=DATE-TIME:20260424T234526Z
UID:05e69129eb0ff471e984f4847afd54a4
CREATED;VALUE=DATE-TIME:20200917T000000Z
CATEGORIES:Exposició
LOCATION:Can Manyé. Espai d'art i creació - Riera Coma Fosca 42. 08328 Alella
URL:https://www.mynerva.net/ajalella/document.php?id=13249
END:VEVENT
END:VCALENDAR