BEGIN:VCALENDAR
VERSION:2.0
PRODID:-//Plone.org//NONSGML plone.app.event//EN
X-WR-TIMEZONE:Europe/Madrid
BEGIN:VEVENT
SUMMARY:Concurs d'aparadors
DTSTART;TZID=Europe/Madrid;VALUE=DATE-TIME:20200807T000000
DTEND;TZID=Europe/Madrid;VALUE=DATE-TIME:20200807T010000
DTSTAMP;VALUE=DATE-TIME:20260424T201223Z
UID:9e6e2c1218bc23567ce56e4c15312e79
CREATED;VALUE=DATE-TIME:20200807T000000Z
CATEGORIES:
URL:https://www.mynerva.net/ajalella/document.php?id=13289
END:VEVENT
END:VCALENDAR