BEGIN:VCALENDAR
VERSION:2.0
PRODID:-//Plone.org//NONSGML plone.app.event//EN
X-WR-TIMEZONE:Europe/Madrid
BEGIN:VEVENT
SUMMARY:Presentació del llibre 'Vistes de prop i de lluny'
DTSTART;TZID=Europe/Madrid;VALUE=DATE-TIME:20200916T190000
DTEND;TZID=Europe/Madrid;VALUE=DATE-TIME:20200916T200000
DTSTAMP;VALUE=DATE-TIME:20260424T234627Z
UID:d23e86ac73ded945acf198d32f43940c
CREATED;VALUE=DATE-TIME:20200916T000000Z
CATEGORIES:Literatura
LOCATION:Placeta de Can Patatina (davant de l'Espai d'arts escèniques)
ORGANIZER:Ajuntament d'Alella
COMMENT:Preu: Gratuït
URL:https://www.mynerva.net/ajalella/document.php?id=13350
END:VEVENT
END:VCALENDAR