BEGIN:VCALENDAR
VERSION:2.0
PRODID:-//Plone.org//NONSGML plone.app.event//EN
X-WR-TIMEZONE:Europe/Madrid
BEGIN:VEVENT
SUMMARY:Un amigo extraordinario
DTSTART;TZID=Europe/Madrid;VALUE=DATE-TIME:20200918T203000
DTEND;TZID=Europe/Madrid;VALUE=DATE-TIME:20200918T213000
DTSTAMP;VALUE=DATE-TIME:20260424T234816Z
UID:ac0cd6a98e89379ce7f548431ea1ed9a
CREATED;VALUE=DATE-TIME:20200918T000000Z
CATEGORIES:Cinema
LOCATION:Espai d'arts escèniques Casal d'Alella - Carrer de Santa Teresa, 9 08328 Alella
COMMENT:Preu: 6,50 &euro;
Durada: Divendres 18 de setembre a les 18 h i VOSE a les 20:30h Dissabte 19 de setembre a les 19:45 h Diumenge 20 de setembre a les 19:15 h  Dilluns 21 de setembre a les 18 h i les 20:30 h (Dia de preu reduït)
DESCRIPTION:Sessió en versió original subtitulada
URL:https://www.mynerva.net/ajalella/document.php?id=13362
END:VEVENT
END:VCALENDAR