BEGIN:VCALENDAR
VERSION:2.0
PRODID:-//Plone.org//NONSGML plone.app.event//EN
X-WR-TIMEZONE:Europe/Madrid
BEGIN:VEVENT
SUMMARY:Tertúlia amb Beatriz Talegón "No aprenem?" ANUL·LADA
DTSTART;TZID=Europe/Madrid;VALUE=DATE-TIME:20201210T190000
DTEND;TZID=Europe/Madrid;VALUE=DATE-TIME:20201210T200000
DTSTAMP;VALUE=DATE-TIME:20260420T024313Z
UID:b5adc558815fdff613b48f0a0ecb778e
CREATED;VALUE=DATE-TIME:20201210T000000Z
CATEGORIES:Tertúlies
LOCATION:Espai d'arts escèniques Casal d'Alella - Carrer de Santa Teresa, 9 08328 Alella
ORGANIZER:Ajuntament d'Alella
COMMENT:Preu: Gratuït
URL:https://www.mynerva.net/ajalella/document.php?id=13394
END:VEVENT
END:VCALENDAR