BEGIN:VCALENDAR
VERSION:2.0
PRODID:-//Plone.org//NONSGML plone.app.event//EN
X-WR-TIMEZONE:Europe/Madrid
BEGIN:VEVENT
SUMMARY:Exposició &OpenCurlyDoubleQuote;A quatre quilòmetres i mig de l'horitzó&CloseCurlyDoubleQuote;
DTSTART;TZID=Europe/Madrid;VALUE=DATE-TIME:20201213T110000
DTEND;TZID=Europe/Madrid;VALUE=DATE-TIME:20201213T120000
DTSTAMP;VALUE=DATE-TIME:20260419T195101Z
UID:0d31ab5c53ecafc111d3a81e591abac8
CREATED;VALUE=DATE-TIME:20201105T000000Z
CATEGORIES:Exposició
LOCATION:Can Manyé. Espai d'art i creació - Riera Coma Fosca 42. 08328 Alella
ORGANIZER:Ajuntament d'Alella
COMMENT:Preu: Gratuït
Durada: Del 5 de novembre al 13 de desembre
URL:https://www.mynerva.net/ajalella/document.php?id=13532
END:VEVENT
END:VCALENDAR