BEGIN:VCALENDAR
VERSION:2.0
PRODID:-//Plone.org//NONSGML plone.app.event//EN
X-WR-TIMEZONE:Europe/Madrid
BEGIN:VEVENT
SUMMARY:Taller d'autodefensa per a noies. AJORNAT
DTSTART;TZID=Europe/Madrid;VALUE=DATE-TIME:20201218T170000
DTEND;TZID=Europe/Madrid;VALUE=DATE-TIME:20201218T180000
DTSTAMP;VALUE=DATE-TIME:20260420T061406Z
UID:34cc9673afe757ff703331bc1fb5b491
CREATED;VALUE=DATE-TIME:20201218T000000Z
CATEGORIES:Joves
LOCATION:Antigues Escoles Fabra - Avinguda Ferran Fabra, 1 08328
ORGANIZER:Ajuntament d'Alella
COMMENT:Preu: 10 euros
Durada: De 17 a 18h
URL:https://www.mynerva.net/ajalella/document.php?id=13656
END:VEVENT
END:VCALENDAR