BEGIN:VCALENDAR
VERSION:2.0
PRODID:-//Plone.org//NONSGML plone.app.event//EN
X-WR-TIMEZONE:Europe/Madrid
BEGIN:VEVENT
SUMMARY:Taller d'autodefensa per a noies. AJORNAT
DTSTART;TZID=Europe/Madrid;VALUE=DATE-TIME:20201211T170000
DTEND;TZID=Europe/Madrid;VALUE=DATE-TIME:20201211T180000
DTSTAMP;VALUE=DATE-TIME:20260420T024046Z
UID:b9c0e0f4ca96ecf60183b8c9e462dc50
CREATED;VALUE=DATE-TIME:20201211T000000Z
CATEGORIES:Joves
LOCATION:Antigues Escoles Fabra - Avinguda Ferran Fabra, 1 08328
ORGANIZER:Ajuntament d'Alella
COMMENT:Preu: 10 euros
Durada: De 17 a 18h
URL:https://www.mynerva.net/ajalella/document.php?id=13657
END:VEVENT
END:VCALENDAR