BEGIN:VCALENDAR
VERSION:2.0
PRODID:-//Plone.org//NONSGML plone.app.event//EN
X-WR-TIMEZONE:Europe/Madrid
BEGIN:VEVENT
SUMMARY:Circ d'hivern 2020
DTSTART;TZID=Europe/Madrid;VALUE=DATE-TIME:20201218T190000
DTEND;TZID=Europe/Madrid;VALUE=DATE-TIME:20201218T200000
DTSTAMP;VALUE=DATE-TIME:20260420T061405Z
UID:bede4f3f3e63db36b80a2a1b442b3ff1
CREATED;VALUE=DATE-TIME:20201218T000000Z
CATEGORIES:Espectacles
LOCATION:Espai d'arts escèniques Casal d'Alella - Carrer de Santa Teresa, 9 08328 Alella
ORGANIZER:Ajuntament d'Alella
COMMENT:Preu: 10-12 euros
URL:https://www.mynerva.net/ajalella/document.php?id=13658
END:VEVENT
END:VCALENDAR