BEGIN:VCALENDAR
VERSION:2.0
PRODID:-//Plone.org//NONSGML plone.app.event//EN
X-WR-TIMEZONE:Europe/Madrid
BEGIN:VEVENT
SUMMARY:Cinema. La voz humana
DTSTART;TZID=Europe/Madrid;VALUE=DATE-TIME:20201204T180000
DTEND;TZID=Europe/Madrid;VALUE=DATE-TIME:20201204T190000
DTSTAMP;VALUE=DATE-TIME:20260419T212519Z
UID:469beccd78b42d1aaa87b8128fd17fbd
CREATED;VALUE=DATE-TIME:20201204T000000Z
CATEGORIES:Cinema
LOCATION:Espai d'arts escèniques Casal d'Alella - Carrer de Santa Teresa, 9 08328 Alella
ORGANIZER:Ajuntament d'Alella
COMMENT:Preu: 4,50 euros
Durada: 30 minuts
DESCRIPTION:Pedro Almodóvar
URL:https://www.mynerva.net/ajalella/document.php?id=13693
END:VEVENT
END:VCALENDAR