BEGIN:VCALENDAR
VERSION:2.0
PRODID:-//Plone.org//NONSGML plone.app.event//EN
X-WR-TIMEZONE:Europe/Madrid
BEGIN:VEVENT
SUMMARY:Cinema. La voz humana
DTSTART;TZID=Europe/Madrid;VALUE=DATE-TIME:20201206T171500
DTEND;TZID=Europe/Madrid;VALUE=DATE-TIME:20201206T181500
DTSTAMP;VALUE=DATE-TIME:20260419T213018Z
UID:fe158364e08c56e9712be37ec83e2f46
CREATED;VALUE=DATE-TIME:20201206T000000Z
CATEGORIES:Cinema
LOCATION:Espai d'arts escèniques Casal d'Alella - Carrer de Santa Teresa, 9 08328 Alella
ORGANIZER:Ajuntament d'Alella
COMMENT:Preu: 4,50 euros
Durada: 30 minuts
DESCRIPTION:Pedro Almodóvar
URL:https://www.mynerva.net/ajalella/document.php?id=13694
END:VEVENT
END:VCALENDAR