BEGIN:VCALENDAR
VERSION:2.0
PRODID:-//Plone.org//NONSGML plone.app.event//EN
X-WR-TIMEZONE:Europe/Madrid
BEGIN:VEVENT
SUMMARY:Cinema. La voz humana
DTSTART;TZID=Europe/Madrid;VALUE=DATE-TIME:20201206T181500
DTEND;TZID=Europe/Madrid;VALUE=DATE-TIME:20201206T191500
DTSTAMP;VALUE=DATE-TIME:20260419T231348Z
UID:61cd010dae43dd977a272d3bfac8adac
CREATED;VALUE=DATE-TIME:20201206T000000Z
CATEGORIES:Cinema
LOCATION:Espai d'arts escèniques Casal d'Alella - Carrer de Santa Teresa, 9 08328 Alella
ORGANIZER:Ajuntament d'Alella
COMMENT:Preu: 4,50 euros
Durada: 30 minuts
DESCRIPTION:Pedro Almodóvar
URL:https://www.mynerva.net/ajalella/document.php?id=13695
END:VEVENT
END:VCALENDAR