BEGIN:VCALENDAR
VERSION:2.0
PRODID:-//Plone.org//NONSGML plone.app.event//EN
X-WR-TIMEZONE:Europe/Madrid
BEGIN:VEVENT
SUMMARY:Cinema. La voz humana
DTSTART;TZID=Europe/Madrid;VALUE=DATE-TIME:20201207T201500
DTEND;TZID=Europe/Madrid;VALUE=DATE-TIME:20201207T211500
DTSTAMP;VALUE=DATE-TIME:20260419T231348Z
UID:e3d7c4db8b2bfff40040ff692beb85b1
CREATED;VALUE=DATE-TIME:20201207T000000Z
CATEGORIES:Cinema
LOCATION:Espai d'arts escèniques Casal d'Alella - Carrer de Santa Teresa, 9 08328 Alella
ORGANIZER:Ajuntament d'Alella
COMMENT:Preu: Preu reduït
Durada: 30 minuts
DESCRIPTION:Pedro Almodóvar
URL:https://www.mynerva.net/ajalella/document.php?id=13696
END:VEVENT
END:VCALENDAR