BEGIN:VCALENDAR
VERSION:2.0
PRODID:-//Plone.org//NONSGML plone.app.event//EN
X-WR-TIMEZONE:Europe/Madrid
BEGIN:VEVENT
SUMMARY:Cinema. Regreso a Hope Gap
DTSTART;TZID=Europe/Madrid;VALUE=DATE-TIME:20201206T191500
DTEND;TZID=Europe/Madrid;VALUE=DATE-TIME:20201206T201500
DTSTAMP;VALUE=DATE-TIME:20260419T231511Z
UID:7d3c4e085b986da50ef7f9f46fe1e36b
CREATED;VALUE=DATE-TIME:20201206T000000Z
CATEGORIES:Cinema
LOCATION:Espai d'arts escèniques Casal d'Alella - Carrer de Santa Teresa, 9 08328 Alella
ORGANIZER:Ajuntament d'Alella
COMMENT:Preu: 6,50 euros
Durada: 101 minuts
URL:https://www.mynerva.net/ajalella/document.php?id=13699
END:VEVENT
END:VCALENDAR