BEGIN:VCALENDAR
VERSION:2.0
PRODID:-//Plone.org//NONSGML plone.app.event//EN
X-WR-TIMEZONE:Europe/Madrid
BEGIN:VEVENT
SUMMARY:Cinema. Regreso a Hope Gap
DTSTART;TZID=Europe/Madrid;VALUE=DATE-TIME:20201207T180000
DTEND;TZID=Europe/Madrid;VALUE=DATE-TIME:20201207T190000
DTSTAMP;VALUE=DATE-TIME:20260420T010455Z
UID:d35061acbbfdba52a8e523d1064a3184
CREATED;VALUE=DATE-TIME:20201207T000000Z
CATEGORIES:Cinema
LOCATION:Espai d'arts escèniques Casal d'Alella - Carrer de Santa Teresa, 9 08328 Alella
ORGANIZER:Ajuntament d'Alella
COMMENT:Preu: 6,50 euros
Durada: 101 minuts
DESCRIPTION:Preu reduït
URL:https://www.mynerva.net/ajalella/document.php?id=13700
END:VEVENT
END:VCALENDAR