BEGIN:VCALENDAR
VERSION:2.0
PRODID:-//Plone.org//NONSGML plone.app.event//EN
X-WR-TIMEZONE:Europe/Madrid
BEGIN:VEVENT
SUMMARY:Cinema. Regreso a Hope Gap
DTSTART;TZID=Europe/Madrid;VALUE=DATE-TIME:20201208T190000
DTEND;TZID=Europe/Madrid;VALUE=DATE-TIME:20201208T200000
DTSTAMP;VALUE=DATE-TIME:20260419T231106Z
UID:f83d31214dc28848112e3323da6a1b69
CREATED;VALUE=DATE-TIME:20201208T000000Z
CATEGORIES:Cinema
LOCATION:Espai d'arts escèniques Casal d'Alella - Carrer de Santa Teresa, 9 08328 Alella
ORGANIZER:Ajuntament d'Alella
COMMENT:Preu: 6,50 euros
Durada: 101 minuts
URL:https://www.mynerva.net/ajalella/document.php?id=13701
END:VEVENT
END:VCALENDAR