BEGIN:VCALENDAR
VERSION:2.0
PRODID:-//Plone.org//NONSGML plone.app.event//EN
X-WR-TIMEZONE:Europe/Madrid
BEGIN:VEVENT
SUMMARY:'Astre blau' &bull; Versopsicodèlia
DTSTART;TZID=Europe/Madrid;VALUE=DATE-TIME:20201205T200000
DTEND;TZID=Europe/Madrid;VALUE=DATE-TIME:20201205T210000
DTSTAMP;VALUE=DATE-TIME:20260419T212422Z
UID:ca89c9337b1a91d62e46f48d0d24d107
CREATED;VALUE=DATE-TIME:20201205T000000Z
CATEGORIES:Música,Literatura
LOCATION:Espai d'arts escèniques Casal d'Alella - Carrer de Santa Teresa, 9 08328 Alella
ORGANIZER:Ajuntament d'Alella
COMMENT:Preu: Gratuït
URL:https://www.mynerva.net/ajalella/document.php?id=13711
END:VEVENT
END:VCALENDAR