BEGIN:VCALENDAR
VERSION:2.0
PRODID:-//Plone.org//NONSGML plone.app.event//EN
X-WR-TIMEZONE:Europe/Madrid
BEGIN:VEVENT
SUMMARY:Xerrada-taller. Drets i deures laborals
DTSTART;TZID=Europe/Madrid;VALUE=DATE-TIME:20201209T160000
DTEND;TZID=Europe/Madrid;VALUE=DATE-TIME:20201209T170000
DTSTAMP;VALUE=DATE-TIME:20260420T024757Z
UID:061f8164ce735834b8730afbf5d2e11f
CREATED;VALUE=DATE-TIME:20201209T000000Z
CATEGORIES:Tertúlies,Jornades,Cursos,Joves
LOCATION:Sessió telemàtica
COMMENT:Preu: Gratuït
Durada: De 16h a 18h
URL:https://www.mynerva.net/ajalella/document.php?id=13787
END:VEVENT
END:VCALENDAR