BEGIN:VCALENDAR
VERSION:2.0
PRODID:-//Plone.org//NONSGML plone.app.event//EN
X-WR-TIMEZONE:Europe/Madrid
BEGIN:VEVENT
SUMMARY:Xerrada-Taller. Industria 4.0
DTSTART;TZID=Europe/Madrid;VALUE=DATE-TIME:20201211T160000
DTEND;TZID=Europe/Madrid;VALUE=DATE-TIME:20201211T170000
DTSTAMP;VALUE=DATE-TIME:20260420T024945Z
UID:89ddf743e214be280a48cd712023d584
CREATED;VALUE=DATE-TIME:20201211T000000Z
CATEGORIES:Tertúlies,Jornades,Cursos,Joves
LOCATION:Sessió telemàtica
ORGANIZER:Ajuntament d'Alella
COMMENT:Preu: Gratuït
Durada: De 16h a 18h
URL:https://www.mynerva.net/ajalella/document.php?id=13788
END:VEVENT
END:VCALENDAR