BEGIN:VCALENDAR
VERSION:2.0
PRODID:-//Plone.org//NONSGML plone.app.event//EN
X-WR-TIMEZONE:Europe/Madrid
BEGIN:VEVENT
SUMMARY:Cinema. Sentimental
DTSTART;TZID=Europe/Madrid;VALUE=DATE-TIME:20201213T173000
DTEND;TZID=Europe/Madrid;VALUE=DATE-TIME:20201213T183000
DTSTAMP;VALUE=DATE-TIME:20260420T024313Z
UID:1d4e857d2a8ee22914d37e20d5aca564
CREATED;VALUE=DATE-TIME:20201213T000000Z
CATEGORIES:Cinema
LOCATION:Espai d'arts escèniques Casal d'Alella - Carrer de Santa Teresa, 9 08328 Alella
ORGANIZER:Ajuntament d'Alella
COMMENT:Preu: 6,50 euros
Durada: 82 minuts
DESCRIPTION:Cesc Gay
URL:https://www.mynerva.net/ajalella/document.php?id=13789
END:VEVENT
END:VCALENDAR