BEGIN:VCALENDAR
VERSION:2.0
PRODID:-//Plone.org//NONSGML plone.app.event//EN
X-WR-TIMEZONE:Europe/Madrid
BEGIN:VEVENT
SUMMARY:Cinema. Sentimental
DTSTART;TZID=Europe/Madrid;VALUE=DATE-TIME:20201213T193000
DTEND;TZID=Europe/Madrid;VALUE=DATE-TIME:20201213T203000
DTSTAMP;VALUE=DATE-TIME:20260420T062454Z
UID:2d8c5df9256ffb1afe77458578d40eb6
CREATED;VALUE=DATE-TIME:20201213T000000Z
CATEGORIES:Cinema
LOCATION:Espai d'arts escèniques Casal d'Alella - Carrer de Santa Teresa, 9 08328 Alella
ORGANIZER:Ajuntament d'Alella
COMMENT:Preu: 6,50 euros
Durada: 82 minuts
DESCRIPTION:Cesc Gay
URL:https://www.mynerva.net/ajalella/document.php?id=13790
END:VEVENT
END:VCALENDAR