BEGIN:VCALENDAR
VERSION:2.0
PRODID:-//Plone.org//NONSGML plone.app.event//EN
X-WR-TIMEZONE:Europe/Madrid
BEGIN:VEVENT
SUMMARY:Cinema. Sentimental
DTSTART;TZID=Europe/Madrid;VALUE=DATE-TIME:20201214T174500
DTEND;TZID=Europe/Madrid;VALUE=DATE-TIME:20201214T184500
DTSTAMP;VALUE=DATE-TIME:20260420T062342Z
UID:2e2c7749b6a90f8bce7f8728e201216c
CREATED;VALUE=DATE-TIME:20201214T000000Z
CATEGORIES:Cinema
LOCATION:Espai d'arts escèniques Casal d'Alella - Carrer de Santa Teresa, 9 08328 Alella
ORGANIZER:Ajuntament d'Alella
COMMENT:Preu: Preu reduït
Durada: 82 minuts
DESCRIPTION:Cesc Gay
URL:https://www.mynerva.net/ajalella/document.php?id=13791
END:VEVENT
END:VCALENDAR