BEGIN:VCALENDAR
VERSION:2.0
PRODID:-//Plone.org//NONSGML plone.app.event//EN
X-WR-TIMEZONE:Europe/Madrid
BEGIN:VEVENT
SUMMARY:Cinema. Trolls 2
DTSTART;TZID=Europe/Madrid;VALUE=DATE-TIME:20201220T170000
DTEND;TZID=Europe/Madrid;VALUE=DATE-TIME:20201220T180000
DTSTAMP;VALUE=DATE-TIME:20260421T161550Z
UID:0da24822dd92b96c3bb1999be1d775e5
CREATED;VALUE=DATE-TIME:20201220T000000Z
CATEGORIES:Cinema
LOCATION:Espai d'arts escèniques Casal d'Alella - Carrer de Santa Teresa, 9 08328 Alella
ORGANIZER:Ajuntament d'Alella
COMMENT:Preu: 6,50 euros
Durada: 90 minuts
DESCRIPTION:Walt Dohrm
URL:https://www.mynerva.net/ajalella/document.php?id=13793
END:VEVENT
END:VCALENDAR