BEGIN:VCALENDAR
VERSION:2.0
PRODID:-//Plone.org//NONSGML plone.app.event//EN
X-WR-TIMEZONE:Europe/Madrid
BEGIN:VEVENT
SUMMARY:Joves a primera línia: àmbit sanitari
DTSTART;TZID=Europe/Madrid;VALUE=DATE-TIME:20201218T190000
DTEND;TZID=Europe/Madrid;VALUE=DATE-TIME:20201218T200000
DTSTAMP;VALUE=DATE-TIME:20260420T064717Z
UID:c6e051d7737522108d8d067dd999f62f
CREATED;VALUE=DATE-TIME:20201218T000000Z
CATEGORIES:Tertúlies,Festes i fires,Joves
LOCATION:@alellajove
ORGANIZER:Ajuntament d'Alella
COMMENT:Preu: Gratuït
DESCRIPTION:La Marató 2020
URL:https://www.mynerva.net/ajalella/document.php?id=13804
END:VEVENT
END:VCALENDAR