BEGIN:VCALENDAR
VERSION:2.0
PRODID:-//Plone.org//NONSGML plone.app.event//EN
X-WR-TIMEZONE:Europe/Madrid
BEGIN:VEVENT
SUMMARY:Joves a primera línia: àmbit comunitari
DTSTART;TZID=Europe/Madrid;VALUE=DATE-TIME:20201220T120000
DTEND;TZID=Europe/Madrid;VALUE=DATE-TIME:20201220T130000
DTSTAMP;VALUE=DATE-TIME:20260421T125832Z
UID:a30bd9620682f6958a472e8acb09dc45
CREATED;VALUE=DATE-TIME:20201220T000000Z
CATEGORIES:Tertúlies,Joves
LOCATION:@alellajove
ORGANIZER:Ajuntament d'Alella
COMMENT:Preu: Gratuït
DESCRIPTION:La Marató 2020
URL:https://www.mynerva.net/ajalella/document.php?id=13805
END:VEVENT
END:VCALENDAR