BEGIN:VCALENDAR
VERSION:2.0
PRODID:-//Plone.org//NONSGML plone.app.event//EN
X-WR-TIMEZONE:Europe/Madrid
BEGIN:VEVENT
SUMMARY:Fira de Nadal
DTSTART;TZID=Europe/Madrid;VALUE=DATE-TIME:20201220T100000
DTEND;TZID=Europe/Madrid;VALUE=DATE-TIME:20201220T110000
DTSTAMP;VALUE=DATE-TIME:20260421T161632Z
UID:294b4519cbcc7b6de167277583fa38d4
CREATED;VALUE=DATE-TIME:20201220T000000Z
CATEGORIES:Festes i fires
LOCATION:Plaça dels Germans Lleonart i rambla d'Àngel Guimerà
ORGANIZER:Ajuntament d'Alella
COMMENT:Durada: De 10 a 19h
URL:https://www.mynerva.net/ajalella/document.php?id=13807
END:VEVENT
END:VCALENDAR