BEGIN:VCALENDAR
VERSION:2.0
PRODID:-//Plone.org//NONSGML plone.app.event//EN
X-WR-TIMEZONE:Europe/Madrid
BEGIN:VEVENT
SUMMARY:Parada de puces solidària amb La Marató
DTSTART;TZID=Europe/Madrid;VALUE=DATE-TIME:20201220T090000
DTEND;TZID=Europe/Madrid;VALUE=DATE-TIME:20201220T100000
DTSTAMP;VALUE=DATE-TIME:20260421T163058Z
UID:6ecb3525f68dd27eaf3b56a1c1b56401
CREATED;VALUE=DATE-TIME:20201220T000000Z
CATEGORIES:Festes i fires
LOCATION:Moll de càrrega del Mercat Municipal
ORGANIZER:ADANA amb la col·laboració de l'Ajuntament
COMMENT:Durada: de 9 a 14h
URL:https://www.mynerva.net/ajalella/document.php?id=13810
END:VEVENT
END:VCALENDAR