BEGIN:VCALENDAR
VERSION:2.0
PRODID:-//Plone.org//NONSGML plone.app.event//EN
X-WR-TIMEZONE:Europe/Madrid
BEGIN:VEVENT
SUMMARY:Timbadala per La Marató amb els Timbalers del Most
DTSTART;TZID=Europe/Madrid;VALUE=DATE-TIME:20201220T120000
DTEND;TZID=Europe/Madrid;VALUE=DATE-TIME:20201220T130000
DTSTAMP;VALUE=DATE-TIME:20260421T144757Z
UID:1b66ae97095e4681587b071b23b3cded
CREATED;VALUE=DATE-TIME:20201220T000000Z
CATEGORIES:Música,Festes i fires
LOCATION:Pati de Can Lleonart
ORGANIZER:Timbalers del Most d'Alella amb la col·laboració de l'Ajuntament
URL:https://www.mynerva.net/ajalella/document.php?id=13812
END:VEVENT
END:VCALENDAR