BEGIN:VCALENDAR
VERSION:2.0
PRODID:-//Plone.org//NONSGML plone.app.event//EN
X-WR-TIMEZONE:Europe/Madrid
BEGIN:VEVENT
SUMMARY:Cinema. Minari
DTSTART;TZID=Europe/Madrid;VALUE=DATE-TIME:20210322T180000
DTEND;TZID=Europe/Madrid;VALUE=DATE-TIME:20210322T190000
DTSTAMP;VALUE=DATE-TIME:20260424T170715Z
UID:59031b4e23c9c22fccc0bcdafef3d715
CREATED;VALUE=DATE-TIME:20210322T000000Z
CATEGORIES:Cinema
LOCATION:Espai d'arts escèniques Casal d'Alella - Carrer de Santa Teresa, 9 08328 Alella
ORGANIZER:Ajuntament d'Alella
COMMENT:Preu: 4,50 dia de preu reduït
Durada: 115 min.
DESCRIPTION:Lee Isaac Chung
URL:https://www.mynerva.net/ajalella/document.php?id=14501
END:VEVENT
END:VCALENDAR