BEGIN:VCALENDAR
VERSION:2.0
PRODID:-//Plone.org//NONSGML plone.app.event//EN
X-WR-TIMEZONE:Europe/Madrid
BEGIN:VEVENT
SUMMARY:Reparatruck. Servei mòbil d'autoreparació
DTSTART;TZID=Europe/Madrid;VALUE=DATE-TIME:20210904T100000
DTEND;TZID=Europe/Madrid;VALUE=DATE-TIME:20210904T110000
DTSTAMP;VALUE=DATE-TIME:20260424T120438Z
UID:f8e09dfdcbe48d71bc1ed1cd898a67f1
CREATED;VALUE=DATE-TIME:20210904T000000Z
LOCATION:Plaça de l'Ajuntament - Plaça de l'Ajuntament, s/n. 08328 Alella
ORGANIZER:Ajuntament d'Alella
COMMENT:Preu: Gratuït
Durada: De 10 a 13h
URL:https://www.mynerva.net/ajalella/document.php?id=14584
END:VEVENT
END:VCALENDAR