BEGIN:VCALENDAR
VERSION:2.0
PRODID:-//Plone.org//NONSGML plone.app.event//EN
X-WR-TIMEZONE:Europe/Madrid
BEGIN:VEVENT
SUMMARY:Didaltruck
DTSTART;TZID=Europe/Madrid;VALUE=DATE-TIME:20210925T100000
DTEND;TZID=Europe/Madrid;VALUE=DATE-TIME:20210925T110000
DTSTAMP;VALUE=DATE-TIME:20260424T114327Z
UID:bdcfdf25e9077bb55dc6b6bcd5f16c51
CREATED;VALUE=DATE-TIME:20210925T000000Z
LOCATION:Plaça de l'Ajuntament - Plaça de l'Ajuntament, s/n. 08328 Alella
ORGANIZER:Ajuntament d'Alella
URL:https://www.mynerva.net/ajalella/document.php?id=14589
END:VEVENT
END:VCALENDAR