BEGIN:VCALENDAR
VERSION:2.0
PRODID:-//Plone.org//NONSGML plone.app.event//EN
X-WR-TIMEZONE:Europe/Madrid
BEGIN:VEVENT
SUMMARY:Diumenges de Vins
DTSTART;TZID=Europe/Madrid;VALUE=DATE-TIME:20210926T120000
DTEND;TZID=Europe/Madrid;VALUE=DATE-TIME:20210926T130000
DTSTAMP;VALUE=DATE-TIME:20260424T050623Z
UID:d8b8a756e9bf9b81a9bfc1e92bfffc18
CREATED;VALUE=DATE-TIME:20210926T000000Z
CATEGORIES:Vi i gastronomia,Tast de vins i most
LOCATION:Pati de l'Oficina de Turisme
ORGANIZER:Ajuntament d'Alella
COMMENT:Preu: 8 euros
DESCRIPTION:Comprar entrada
URL:https://www.mynerva.net/ajalella/document.php?id=14673
END:VEVENT
END:VCALENDAR