BEGIN:VCALENDAR
VERSION:2.0
PRODID:-//Plone.org//NONSGML plone.app.event//EN
X-WR-TIMEZONE:Europe/Madrid
BEGIN:VEVENT
SUMMARY:Diumenges de Most
DTSTART;TZID=Europe/Madrid;VALUE=DATE-TIME:20210926T120000
DTEND;TZID=Europe/Madrid;VALUE=DATE-TIME:20210926T130000
DTSTAMP;VALUE=DATE-TIME:20260424T045557Z
UID:78796c3d61931ee155b17ead5934566d
CREATED;VALUE=DATE-TIME:20210926T000000Z
CATEGORIES:Tast de vins i most,Familiars
LOCATION:Pati de l'Oficina de Turisme
ORGANIZER:Ajuntament d'Alella
COMMENT:Preu: 4 &#128;
DESCRIPTION:Comprar entrada
URL:https://www.mynerva.net/ajalella/document.php?id=14675
END:VEVENT
END:VCALENDAR