BEGIN:VCALENDAR
VERSION:2.0
PRODID:-//Plone.org//NONSGML plone.app.event//EN
X-WR-TIMEZONE:Europe/Madrid
BEGIN:VEVENT
SUMMARY:Diumenges de Vins
DTSTART;TZID=Europe/Madrid;VALUE=DATE-TIME:20211219T120000
DTEND;TZID=Europe/Madrid;VALUE=DATE-TIME:20211219T130000
DTSTAMP;VALUE=DATE-TIME:20260424T011436Z
UID:28193e852eb6388d033c9a9f62909aed
CREATED;VALUE=DATE-TIME:20211219T000000Z
CATEGORIES:Tast de vins i most,Familiars
LOCATION:Pati de l'Oficina de Turisme
ORGANIZER:Ajuntament d'Alella
COMMENT:Preu: 8 euros
DESCRIPTION:Comprar entrada
URL:https://www.mynerva.net/ajalella/document.php?id=14678
END:VEVENT
END:VCALENDAR