BEGIN:VCALENDAR
VERSION:2.0
PRODID:-//Plone.org//NONSGML plone.app.event//EN
X-WR-TIMEZONE:Europe/Madrid
BEGIN:VEVENT
SUMMARY:Diumenge de Most
DTSTART;TZID=Europe/Madrid;VALUE=DATE-TIME:20211219T120000
DTEND;TZID=Europe/Madrid;VALUE=DATE-TIME:20211219T130000
DTSTAMP;VALUE=DATE-TIME:20260424T011512Z
UID:d7a461bedbc589e57e78b89e4d6a4c32
CREATED;VALUE=DATE-TIME:20211219T000000Z
CATEGORIES:Vi i gastronomia,Tast de vins i most
LOCATION:Pati de l'Oficina de Turisme
ORGANIZER:Ajuntament d'Alella
COMMENT:Preu: 8 euros
DESCRIPTION:Comprar entrada
URL:https://www.mynerva.net/ajalella/document.php?id=14679
END:VEVENT
END:VCALENDAR