BEGIN:VCALENDAR
VERSION:2.0
PRODID:-//Plone.org//NONSGML plone.app.event//EN
X-WR-TIMEZONE:Europe/Madrid
BEGIN:VEVENT
SUMMARY:Mostreig científic i tastet de mar
DTSTART;TZID=Europe/Madrid;VALUE=DATE-TIME:20210619T100000
DTEND;TZID=Europe/Madrid;VALUE=DATE-TIME:20210619T110000
DTSTAMP;VALUE=DATE-TIME:20260420T112326Z
UID:6769e7a3496dd180cba5ae30be922c91
CREATED;VALUE=DATE-TIME:20210619T000000Z
CATEGORIES:Sortides,Joves,Esports
LOCATION:platja de Montgat amb l'Escola del Mar
ORGANIZER:Ajuntament d'Alella
COMMENT:Preu: 5&euro;
Durada: De 10h a 13h
URL:https://www.mynerva.net/ajalella/document.php?id=14844
END:VEVENT
END:VCALENDAR