BEGIN:VCALENDAR
VERSION:2.0
PRODID:-//Plone.org//NONSGML plone.app.event//EN
X-WR-TIMEZONE:Europe/Madrid
BEGIN:VEVENT
SUMMARY:Músics en Residència
DTSTART;TZID=Europe/Madrid;VALUE=DATE-TIME:20210724T200000
DTEND;TZID=Europe/Madrid;VALUE=DATE-TIME:20210724T210000
DTSTAMP;VALUE=DATE-TIME:20260424T101042Z
UID:43072919e43a06c9f692c6d2ea876e22
CREATED;VALUE=DATE-TIME:20210724T000000Z
CATEGORIES:Espectacles,Música
LOCATION:Espai d'arts escèniques Casal d'Alella - Carrer de Santa Teresa, 9 08328 Alella
ORGANIZER:Ajuntament d'Alella i Associació de Músics en Residència
COMMENT:Preu: 18 euros
DESCRIPTION:Concert
URL:https://www.mynerva.net/ajalella/document.php?id=15064
END:VEVENT
END:VCALENDAR