BEGIN:VCALENDAR
VERSION:2.0
PRODID:-//Plone.org//NONSGML plone.app.event//EN
X-WR-TIMEZONE:Europe/Madrid
BEGIN:VEVENT
SUMMARY:Festa de la Verema. Banc de sang
DTSTART;TZID=Europe/Madrid;VALUE=DATE-TIME:20210904T100000
DTEND;TZID=Europe/Madrid;VALUE=DATE-TIME:20210904T110000
DTSTAMP;VALUE=DATE-TIME:20260424T120438Z
UID:9a31eaf92f0670ca34ea6a0c8256f057
CREATED;VALUE=DATE-TIME:20210904T000000Z
LOCATION:Centre Cultural de Can Lleonart - Plaça dels Germans Lleonart, 1 08328 Alella
ORGANIZER:Ajuntament d'Alella i Banc de Sang i de Teixits
COMMENT:Durada: De 10 a 14h i de 17 a 21h
DESCRIPTION:INSCRIPCIONS
URL:https://www.mynerva.net/ajalella/document.php?id=15189
END:VEVENT
END:VCALENDAR