BEGIN:VCALENDAR
VERSION:2.0
PRODID:-//Plone.org//NONSGML plone.app.event//EN
X-WR-TIMEZONE:Europe/Madrid
BEGIN:VEVENT
SUMMARY:Festa Major. 1a Cursa de la Pera
DTSTART;TZID=Europe/Madrid;VALUE=DATE-TIME:20210731T090000
DTEND;TZID=Europe/Madrid;VALUE=DATE-TIME:20210731T100000
DTSTAMP;VALUE=DATE-TIME:20260424T085509Z
UID:308001c795dd28cc65fb7144d18c8e10
CREATED;VALUE=DATE-TIME:20210731T000000Z
CATEGORIES:Festes i fires,Familiars,Joves,Esports
LOCATION:Pistes d'Atletisme - Cami del Mig, 31. 08328 Alella
COMMENT:Preu: Gratuït
URL:https://www.mynerva.net/ajalella/document.php?id=15253
END:VEVENT
END:VCALENDAR