BEGIN:VCALENDAR
VERSION:2.0
PRODID:-//Plone.org//NONSGML plone.app.event//EN
X-WR-TIMEZONE:Europe/Madrid
BEGIN:VEVENT
SUMMARY:Festa Major. Espai Gastroneta
DTSTART;TZID=Europe/Madrid;VALUE=DATE-TIME:20210801T190000
DTEND;TZID=Europe/Madrid;VALUE=DATE-TIME:20210801T200000
DTSTAMP;VALUE=DATE-TIME:20260424T150347Z
UID:11323045dfdda3b65614e8fa2cecefd6
CREATED;VALUE=DATE-TIME:20210730T000000Z
CATEGORIES:Festes i fires,Vi i gastronomia
LOCATION:Escola Fabra del Bosquet - Avinguda del Bosquet, 1. 08328 Alella
ORGANIZER:Ajuntament d'Alella
COMMENT:Durada: Divendres, dissabte i diumenge, de 19 a 24h
URL:https://www.mynerva.net/ajalella/document.php?id=15278
END:VEVENT
END:VCALENDAR