BEGIN:VCALENDAR
VERSION:2.0
PRODID:-//Plone.org//NONSGML plone.app.event//EN
X-WR-TIMEZONE:Europe/Madrid
BEGIN:VEVENT
SUMMARY:Festa Major. Versions per xics
DTSTART;TZID=Europe/Madrid;VALUE=DATE-TIME:20210731T190000
DTEND;TZID=Europe/Madrid;VALUE=DATE-TIME:20210731T200000
DTSTAMP;VALUE=DATE-TIME:20260424T101411Z
UID:89b5a6835bdb136db521a11204b463e6
CREATED;VALUE=DATE-TIME:20210731T000000Z
CATEGORIES:Música,Festes i fires,Familiars
LOCATION:Escola Fabra del Bosquet - Avinguda del Bosquet, 1. 08328 Alella
ORGANIZER:Ajuntament d'Alella
COMMENT:Preu: Gratuït
URL:https://www.mynerva.net/ajalella/document.php?id=15296
END:VEVENT
END:VCALENDAR