BEGIN:VCALENDAR
VERSION:2.0
PRODID:-//Plone.org//NONSGML plone.app.event//EN
X-WR-TIMEZONE:Europe/Madrid
BEGIN:VEVENT
SUMMARY:Festa Major. Exposició del 24è Concurs de Dibuix Infantil
DTSTART;TZID=Europe/Madrid;VALUE=DATE-TIME:20210731T180000
DTEND;TZID=Europe/Madrid;VALUE=DATE-TIME:20210731T190000
DTSTAMP;VALUE=DATE-TIME:20260424T133804Z
UID:7be8b94179aec60883862c314b30c2f8
CREATED;VALUE=DATE-TIME:20210731T000000Z
CATEGORIES:Festes i fires,Familiars
LOCATION:Centre Cultural de Can Lleonart - Plaça dels Germans Lleonart, 1 08328 Alella
ORGANIZER:Associació de Dones Montserrat Roig
COMMENT:Durada: 18h A 20h
URL:https://www.mynerva.net/ajalella/document.php?id=15297
END:VEVENT
END:VCALENDAR