BEGIN:VCALENDAR
VERSION:2.0
PRODID:-//Plone.org//NONSGML plone.app.event//EN
X-WR-TIMEZONE:Europe/Madrid
BEGIN:VEVENT
SUMMARY:Festa Major. Espai circ
DTSTART;TZID=Europe/Madrid;VALUE=DATE-TIME:20210731T180000
DTEND;TZID=Europe/Madrid;VALUE=DATE-TIME:20210731T190000
DTSTAMP;VALUE=DATE-TIME:20260424T084731Z
UID:ee5b57226849b6c5a276c52f13755fb5
CREATED;VALUE=DATE-TIME:20210731T000000Z
CATEGORIES:Festes i fires,Familiars
LOCATION:Centre Cultural de Can Lleonart - Plaça dels Germans Lleonart, 1 08328 Alella
ORGANIZER:Ajuntament d'Alella
COMMENT:Preu: Gratuït
URL:https://www.mynerva.net/ajalella/document.php?id=15299
END:VEVENT
END:VCALENDAR