BEGIN:VCALENDAR
VERSION:2.0
PRODID:-//Plone.org//NONSGML plone.app.event//EN
X-WR-TIMEZONE:Europe/Madrid
BEGIN:VEVENT
SUMMARY:Festa Major. Vermut de Festa Major
DTSTART;TZID=Europe/Madrid;VALUE=DATE-TIME:20210801T120000
DTEND;TZID=Europe/Madrid;VALUE=DATE-TIME:20210801T130000
DTSTAMP;VALUE=DATE-TIME:20260424T133723Z
UID:1e441a275158418dbc89e3037e7d960c
CREATED;VALUE=DATE-TIME:20210731T000000Z
CATEGORIES:Festes i fires,Vi i gastronomia
LOCATION:Bars i restaurants del poble
ORGANIZER:Bars i restaurants
COMMENT:Preu: 5 euros
Durada: 12h A 13:30h
URL:https://www.mynerva.net/ajalella/document.php?id=15300
END:VEVENT
END:VCALENDAR