BEGIN:VCALENDAR
VERSION:2.0
PRODID:-//Plone.org//NONSGML plone.app.event//EN
X-WR-TIMEZONE:Europe/Madrid
BEGIN:VEVENT
SUMMARY:Festa Major. Espectacle musical amb els Timbalers del Vi i els Timbalers del Most
DTSTART;TZID=Europe/Madrid;VALUE=DATE-TIME:20210730T203000
DTEND;TZID=Europe/Madrid;VALUE=DATE-TIME:20210730T213000
DTSTAMP;VALUE=DATE-TIME:20260424T150357Z
UID:56864c63f9f5615312f6f53d441ea05f
CREATED;VALUE=DATE-TIME:20210730T000000Z
CATEGORIES:Espectacles,Festes i fires,Familiars
LOCATION:Escola La Serreta - C/ La Vinya 47-51
ORGANIZER:Timbalers del  Most i Timbalers del Vi
COMMENT:Preu: Gratuït
URL:https://www.mynerva.net/ajalella/document.php?id=15304
END:VEVENT
END:VCALENDAR